Package: MsDataHub Version: 1.9.0 Command: /home/rapidbuild/bbs-3.22-bioc-rapid/R/bin/R CMD build --keep-empty-dirs --no-resave-data MsDataHub StartedAt: 2025-06-17 19:15:58 -0400 (Tue, 17 Jun 2025) EndedAt: 2025-06-17 19:19:13 -0400 (Tue, 17 Jun 2025) EllapsedTime: 195.0 seconds RetCode: 0 Status: OK PackageFile: MsDataHub_1.9.0.tar.gz PackageFileSize: 372.4 KiB