Package: MsExperiment Version: 1.11.1 Command: /home/rapidbuild/bbs-3.22-bioc-rapid/R/bin/R CMD build --keep-empty-dirs --no-resave-data MsExperiment StartedAt: 2025-06-17 19:16:20 -0400 (Tue, 17 Jun 2025) EndedAt: 2025-06-17 19:17:23 -0400 (Tue, 17 Jun 2025) EllapsedTime: 63.0 seconds RetCode: 0 Status: OK PackageFile: MsExperiment_1.11.1.tar.gz PackageFileSize: 1.917 MiB