Package: MsExperiment Version: 1.11.1 Command: /home/rapidbuild/bbs-3.22-bioc-rapid/R/bin/R CMD INSTALL MsExperiment StartedAt: 2025-06-17 18:24:08 -0400 (Tue, 17 Jun 2025) EndedAt: 2025-06-17 18:24:54 -0400 (Tue, 17 Jun 2025) EllapsedTime: 45.5 seconds RetCode: 0 Status: OK