Package: MultiAssayExperiment Version: 1.35.3 Command: /home/rapidbuild/bbs-3.22-bioc-rapid/R/bin/R CMD INSTALL MultiAssayExperiment StartedAt: 2025-06-17 18:22:51 -0400 (Tue, 17 Jun 2025) EndedAt: 2025-06-17 18:23:27 -0400 (Tue, 17 Jun 2025) EllapsedTime: 35.9 seconds RetCode: 0 Status: OK