Package: ProtGenerics Version: 1.41.0 Command: /home/rapidbuild/bbs-3.22-bioc-rapid/R/bin/R CMD check --install=check:ProtGenerics.install-out.txt --library=/home/rapidbuild/bbs-3.22-bioc-rapid/R/site-library --timings ProtGenerics_1.41.0.tar.gz StartedAt: 2025-06-17 21:23:02 -0400 (Tue, 17 Jun 2025) EndedAt: 2025-06-17 21:23:19 -0400 (Tue, 17 Jun 2025) EllapsedTime: 17.0 seconds RetCode: 0 Status: OK CheckDir: ProtGenerics.Rcheck Warnings: 0