Package: QFeatures Version: 1.19.2 Command: /home/rapidbuild/bbs-3.22-bioc-rapid/R/bin/R CMD check --install=check:QFeatures.install-out.txt --library=/home/rapidbuild/bbs-3.22-bioc-rapid/R/site-library --timings QFeatures_1.19.2.tar.gz StartedAt: 2025-06-17 21:26:25 -0400 (Tue, 17 Jun 2025) EndedAt: 2025-06-17 21:34:34 -0400 (Tue, 17 Jun 2025) EllapsedTime: 488.6 seconds RetCode: 0 Status: OK CheckDir: QFeatures.Rcheck Warnings: 0