Package: ROC Version: 1.85.0 Command: /home/rapidbuild/bbs-3.22-bioc-rapid/R/bin/R CMD build --keep-empty-dirs --no-resave-data ROC StartedAt: 2025-06-17 19:29:53 -0400 (Tue, 17 Jun 2025) EndedAt: 2025-06-17 19:29:58 -0400 (Tue, 17 Jun 2025) EllapsedTime: 5.0 seconds RetCode: 0 Status: OK PackageFile: ROC_1.85.0.tar.gz PackageFileSize: 251.1 KiB