Package: ROC Version: 1.85.0 Command: /home/rapidbuild/bbs-3.22-bioc-rapid/R/bin/R CMD INSTALL ROC StartedAt: 2025-06-17 18:15:20 -0400 (Tue, 17 Jun 2025) EndedAt: 2025-06-17 18:15:23 -0400 (Tue, 17 Jun 2025) EllapsedTime: 2.4 seconds RetCode: 0 Status: OK