Package: RProtoBufLib Version: 2.21.0 Command: /home/rapidbuild/bbs-3.22-bioc-rapid/R/bin/R CMD build --keep-empty-dirs --no-resave-data RProtoBufLib StartedAt: 2025-06-17 19:30:22 -0400 (Tue, 17 Jun 2025) EndedAt: 2025-06-17 19:34:25 -0400 (Tue, 17 Jun 2025) EllapsedTime: 242.7 seconds RetCode: 0 Status: OK PackageFile: RProtoBufLib_2.21.0.tar.gz PackageFileSize: 2.84 MiB