Package: RProtoBufLib Version: 2.21.0 Command: /home/rapidbuild/bbs-3.22-bioc-rapid/R/bin/R CMD check --install=check:RProtoBufLib.install-out.txt --library=/home/rapidbuild/bbs-3.22-bioc-rapid/R/site-library --timings RProtoBufLib_2.21.0.tar.gz StartedAt: 2025-06-17 21:34:53 -0400 (Tue, 17 Jun 2025) EndedAt: 2025-06-17 21:35:12 -0400 (Tue, 17 Jun 2025) EllapsedTime: 19.3 seconds RetCode: 0 Status: WARNINGS CheckDir: RProtoBufLib.Rcheck Warnings: 2