Package: RProtoBufLib Version: 2.21.0 Command: /home/rapidbuild/bbs-3.22-bioc-rapid/R/bin/R CMD INSTALL RProtoBufLib StartedAt: 2025-06-17 18:04:45 -0400 (Tue, 17 Jun 2025) EndedAt: 2025-06-17 18:08:44 -0400 (Tue, 17 Jun 2025) EllapsedTime: 239.2 seconds RetCode: 0 Status: OK