Package: RaggedExperiment Version: 1.33.2 Command: /home/rapidbuild/bbs-3.22-bioc-rapid/R/bin/R CMD build --keep-empty-dirs --no-resave-data RaggedExperiment StartedAt: 2025-06-17 19:24:14 -0400 (Tue, 17 Jun 2025) EndedAt: 2025-06-17 19:25:05 -0400 (Tue, 17 Jun 2025) EllapsedTime: 51.0 seconds RetCode: 0 Status: OK PackageFile: RaggedExperiment_1.33.2.tar.gz PackageFileSize: 669.7 KiB