Package: RaggedExperiment Version: 1.33.2 Command: /home/rapidbuild/bbs-3.22-bioc-rapid/R/bin/R CMD INSTALL RaggedExperiment StartedAt: 2025-06-17 18:18:49 -0400 (Tue, 17 Jun 2025) EndedAt: 2025-06-17 18:19:10 -0400 (Tue, 17 Jun 2025) EllapsedTime: 20.6 seconds RetCode: 0 Status: OK