Package: ReportingTools Version: 2.49.0 Command: /home/rapidbuild/bbs-3.22-bioc-rapid/R/bin/R CMD check --install=check:ReportingTools.install-out.txt --library=/home/rapidbuild/bbs-3.22-bioc-rapid/R/site-library --timings ReportingTools_2.49.0.tar.gz StartedAt: 2025-06-17 21:29:46 -0400 (Tue, 17 Jun 2025) EndedAt: 2025-06-17 21:38:56 -0400 (Tue, 17 Jun 2025) EllapsedTime: 549.5 seconds RetCode: 0 Status: OK CheckDir: ReportingTools.Rcheck Warnings: 0