Package: ResidualMatrix Version: 1.19.0 Command: /home/rapidbuild/bbs-3.22-bioc-rapid/R/bin/R CMD build --keep-empty-dirs --no-resave-data ResidualMatrix StartedAt: 2025-06-17 19:27:10 -0400 (Tue, 17 Jun 2025) EndedAt: 2025-06-17 19:28:08 -0400 (Tue, 17 Jun 2025) EllapsedTime: 58.0 seconds RetCode: 0 Status: OK PackageFile: ResidualMatrix_1.19.0.tar.gz PackageFileSize: 379.3 KiB