Package: ResidualMatrix Version: 1.19.0 Command: /home/rapidbuild/bbs-3.22-bioc-rapid/R/bin/R CMD check --install=check:ResidualMatrix.install-out.txt --library=/home/rapidbuild/bbs-3.22-bioc-rapid/R/site-library --timings ResidualMatrix_1.19.0.tar.gz StartedAt: 2025-06-17 21:31:04 -0400 (Tue, 17 Jun 2025) EndedAt: 2025-06-17 21:34:13 -0400 (Tue, 17 Jun 2025) EllapsedTime: 189.1 seconds RetCode: 0 Status: OK CheckDir: ResidualMatrix.Rcheck Warnings: 0