Package: ResidualMatrix Version: 1.19.0 Command: /home/rapidbuild/bbs-3.22-bioc-rapid/R/bin/R CMD INSTALL ResidualMatrix StartedAt: 2025-06-17 18:14:59 -0400 (Tue, 17 Jun 2025) EndedAt: 2025-06-17 18:15:15 -0400 (Tue, 17 Jun 2025) EllapsedTime: 15.5 seconds RetCode: 0 Status: OK