Package: Rhtslib Version: 3.5.0 Command: /home/rapidbuild/bbs-3.22-bioc-rapid/R/bin/R CMD check --install=check:Rhtslib.install-out.txt --library=/home/rapidbuild/bbs-3.22-bioc-rapid/R/site-library --timings Rhtslib_3.5.0.tar.gz StartedAt: 2025-06-17 21:34:14 -0400 (Tue, 17 Jun 2025) EndedAt: 2025-06-17 21:34:34 -0400 (Tue, 17 Jun 2025) EllapsedTime: 20.4 seconds RetCode: 0 Status: OK CheckDir: Rhtslib.Rcheck Warnings: 0