Package: Rsubread Version: 2.23.2 Command: /home/rapidbuild/bbs-3.22-bioc-rapid/R/bin/R CMD build --keep-empty-dirs --no-resave-data Rsubread StartedAt: 2025-06-17 19:31:33 -0400 (Tue, 17 Jun 2025) EndedAt: 2025-06-17 19:40:11 -0400 (Tue, 17 Jun 2025) EllapsedTime: 518.3 seconds RetCode: 0 Status: OK PackageFile: Rsubread_2.23.2.tar.gz PackageFileSize: 12.94 MiB