Package: Rsubread Version: 2.23.2 Command: /home/rapidbuild/bbs-3.22-bioc-rapid/R/bin/R CMD INSTALL Rsubread StartedAt: 2025-06-17 18:09:32 -0400 (Tue, 17 Jun 2025) EndedAt: 2025-06-17 18:10:07 -0400 (Tue, 17 Jun 2025) EllapsedTime: 35.2 seconds RetCode: 0 Status: OK