Package: S4Arrays Version: 1.9.1 Command: /home/rapidbuild/bbs-3.22-bioc-rapid/R/bin/R CMD build --keep-empty-dirs --no-resave-data S4Arrays StartedAt: 2025-06-17 19:32:38 -0400 (Tue, 17 Jun 2025) EndedAt: 2025-06-17 19:32:56 -0400 (Tue, 17 Jun 2025) EllapsedTime: 18.0 seconds RetCode: 0 Status: OK PackageFile: S4Arrays_1.9.1.tar.gz PackageFileSize: 287.6 KiB