Package: S4Arrays Version: 1.9.1 Command: /home/rapidbuild/bbs-3.22-bioc-rapid/R/bin/R CMD INSTALL S4Arrays StartedAt: 2025-06-17 18:13:15 -0400 (Tue, 17 Jun 2025) EndedAt: 2025-06-17 18:13:28 -0400 (Tue, 17 Jun 2025) EllapsedTime: 13.2 seconds RetCode: 0 Status: OK