Package: SPIA Version: 2.61.0 Command: /home/rapidbuild/bbs-3.22-bioc-rapid/R/bin/R CMD build --keep-empty-dirs --no-resave-data SPIA StartedAt: 2025-06-17 19:41:50 -0400 (Tue, 17 Jun 2025) EndedAt: 2025-06-17 19:45:02 -0400 (Tue, 17 Jun 2025) EllapsedTime: 192.8 seconds RetCode: 0 Status: OK PackageFile: SPIA_2.61.0.tar.gz PackageFileSize: 2.549 MiB