Package: SPIA Version: 2.61.0 Command: /home/rapidbuild/bbs-3.22-bioc-rapid/R/bin/R CMD INSTALL SPIA StartedAt: 2025-06-17 18:14:13 -0400 (Tue, 17 Jun 2025) EndedAt: 2025-06-17 18:14:18 -0400 (Tue, 17 Jun 2025) EllapsedTime: 5.0 seconds RetCode: 0 Status: OK