Package: ScaledMatrix Version: 1.17.0 Command: /home/rapidbuild/bbs-3.22-bioc-rapid/R/bin/R CMD check --install=check:ScaledMatrix.install-out.txt --library=/home/rapidbuild/bbs-3.22-bioc-rapid/R/site-library --timings ScaledMatrix_1.17.0.tar.gz StartedAt: 2025-06-17 21:38:56 -0400 (Tue, 17 Jun 2025) EndedAt: 2025-06-17 21:43:12 -0400 (Tue, 17 Jun 2025) EllapsedTime: 255.4 seconds RetCode: 0 Status: OK CheckDir: ScaledMatrix.Rcheck Warnings: 0