Package: ScaledMatrix Version: 1.17.0 Command: /home/rapidbuild/bbs-3.22-bioc-rapid/R/bin/R CMD INSTALL ScaledMatrix StartedAt: 2025-06-17 18:14:47 -0400 (Tue, 17 Jun 2025) EndedAt: 2025-06-17 18:15:02 -0400 (Tue, 17 Jun 2025) EllapsedTime: 15.4 seconds RetCode: 0 Status: OK