Package: ShortRead Version: 1.67.0 Command: /home/rapidbuild/bbs-3.22-bioc-rapid/R/bin/R CMD build --keep-empty-dirs --no-resave-data ShortRead StartedAt: 2025-06-17 19:37:51 -0400 (Tue, 17 Jun 2025) EndedAt: 2025-06-17 19:38:46 -0400 (Tue, 17 Jun 2025) EllapsedTime: 55.0 seconds RetCode: 0 Status: OK PackageFile: ShortRead_1.67.0.tar.gz PackageFileSize: 5.06 MiB