Package: ShortRead Version: 1.67.0 Command: /home/rapidbuild/bbs-3.22-bioc-rapid/R/bin/R CMD INSTALL ShortRead StartedAt: 2025-06-17 18:25:24 -0400 (Tue, 17 Jun 2025) EndedAt: 2025-06-17 18:26:14 -0400 (Tue, 17 Jun 2025) EllapsedTime: 50.1 seconds RetCode: 0 Status: OK