Package: SingleCellExperiment Version: 1.31.0 Command: /home/rapidbuild/bbs-3.22-bioc-rapid/R/bin/R CMD build --keep-empty-dirs --no-resave-data SingleCellExperiment StartedAt: 2025-06-17 19:38:46 -0400 (Tue, 17 Jun 2025) EndedAt: 2025-06-17 19:39:44 -0400 (Tue, 17 Jun 2025) EllapsedTime: 58.0 seconds RetCode: 0 Status: OK PackageFile: SingleCellExperiment_1.31.0.tar.gz PackageFileSize: 962.7 KiB