Package: SingleCellExperiment Version: 1.31.0 Command: /home/rapidbuild/bbs-3.22-bioc-rapid/R/bin/R CMD INSTALL SingleCellExperiment StartedAt: 2025-06-17 18:18:44 -0400 (Tue, 17 Jun 2025) EndedAt: 2025-06-17 18:19:07 -0400 (Tue, 17 Jun 2025) EllapsedTime: 23.6 seconds RetCode: 0 Status: OK