Package: SingleR Version: 2.11.2 Maintainer: Aaron Lun MaintainerEmail: infinite.monkeys.with.keyboards at gmail.com git_url: https://git.bioconductor.org/packages/SingleR git_branch: devel git_last_commit: 40a7a7d git_last_commit_date: 2025-06-04 11:48:47 -0400 (Wed, 04 Jun 2025)