Package: SparseArray Version: 1.9.0 Command: /home/rapidbuild/bbs-3.22-bioc-rapid/R/bin/R CMD build --keep-empty-dirs --no-resave-data SparseArray StartedAt: 2025-06-17 19:40:59 -0400 (Tue, 17 Jun 2025) EndedAt: 2025-06-17 19:41:49 -0400 (Tue, 17 Jun 2025) EllapsedTime: 49.6 seconds RetCode: 0 Status: OK PackageFile: SparseArray_1.9.0.tar.gz PackageFileSize: 456.2 KiB