Package: SparseArray Version: 1.9.0 Command: /home/rapidbuild/bbs-3.22-bioc-rapid/R/bin/R CMD INSTALL SparseArray StartedAt: 2025-06-17 18:13:41 -0400 (Tue, 17 Jun 2025) EndedAt: 2025-06-17 18:14:10 -0400 (Tue, 17 Jun 2025) EllapsedTime: 28.5 seconds RetCode: 0 Status: OK