Package: SpatialExperiment Version: 1.19.1 Command: /home/rapidbuild/bbs-3.22-bioc-rapid/R/bin/R CMD build --keep-empty-dirs --no-resave-data SpatialExperiment StartedAt: 2025-06-17 19:41:31 -0400 (Tue, 17 Jun 2025) EndedAt: 2025-06-17 19:42:24 -0400 (Tue, 17 Jun 2025) EllapsedTime: 52.6 seconds RetCode: 0 Status: OK PackageFile: SpatialExperiment_1.19.1.tar.gz PackageFileSize: 5.157 MiB