Package: SpatialExperiment Version: 1.19.1 Command: /home/rapidbuild/bbs-3.22-bioc-rapid/R/bin/R CMD INSTALL SpatialExperiment StartedAt: 2025-06-17 18:20:30 -0400 (Tue, 17 Jun 2025) EndedAt: 2025-06-17 18:20:52 -0400 (Tue, 17 Jun 2025) EllapsedTime: 22.6 seconds RetCode: 0 Status: OK