Package: Spectra Version: 1.19.2 Command: /home/rapidbuild/bbs-3.22-bioc-rapid/R/bin/R CMD build --keep-empty-dirs --no-resave-data Spectra StartedAt: 2025-06-17 19:41:49 -0400 (Tue, 17 Jun 2025) EndedAt: 2025-06-17 19:42:36 -0400 (Tue, 17 Jun 2025) EllapsedTime: 46.6 seconds RetCode: 0 Status: OK PackageFile: Spectra_1.19.2.tar.gz PackageFileSize: 1.8 MiB