Package: Spectra Version: 1.19.2 Command: /home/rapidbuild/bbs-3.22-bioc-rapid/R/bin/R CMD INSTALL Spectra StartedAt: 2025-06-17 18:16:54 -0400 (Tue, 17 Jun 2025) EndedAt: 2025-06-17 18:17:09 -0400 (Tue, 17 Jun 2025) EllapsedTime: 14.2 seconds RetCode: 0 Status: OK