Package: TCGAbiolinks Version: 2.37.0 Maintainer: Tiago Chedraoui Silva MaintainerEmail: tiagochst at gmail.com git_url: https://git.bioconductor.org/packages/TCGAbiolinks git_branch: devel git_last_commit: 78fe9bb git_last_commit_date: 2025-04-15 10:52:45 -0400 (Tue, 15 Apr 2025)