Package: TCGAbiolinks Version: 2.37.0 Command: /home/rapidbuild/bbs-3.22-bioc-rapid/R/bin/R CMD INSTALL TCGAbiolinks StartedAt: 2025-06-17 18:23:07 -0400 (Tue, 17 Jun 2025) EndedAt: 2025-06-17 18:23:50 -0400 (Tue, 17 Jun 2025) EllapsedTime: 43.5 seconds RetCode: 0 Status: OK