Package: TENxIO Version: 1.11.4 Command: /home/rapidbuild/bbs-3.22-bioc-rapid/R/bin/R CMD build --keep-empty-dirs --no-resave-data TENxIO StartedAt: 2025-06-17 19:43:08 -0400 (Tue, 17 Jun 2025) EndedAt: 2025-06-17 19:43:46 -0400 (Tue, 17 Jun 2025) EllapsedTime: 37.9 seconds RetCode: 0 Status: OK PackageFile: TENxIO_1.11.4.tar.gz PackageFileSize: 256.5 KiB