Package: TENxIO Version: 1.11.4 Command: /home/rapidbuild/bbs-3.22-bioc-rapid/R/bin/R CMD INSTALL TENxIO StartedAt: 2025-06-17 18:20:21 -0400 (Tue, 17 Jun 2025) EndedAt: 2025-06-17 18:20:43 -0400 (Tue, 17 Jun 2025) EllapsedTime: 22.6 seconds RetCode: 0 Status: OK