Package: UCSC.utils Version: 1.5.0 Command: /home/rapidbuild/bbs-3.22-bioc-rapid/R/bin/R CMD check --install=check:UCSC.utils.install-out.txt --library=/home/rapidbuild/bbs-3.22-bioc-rapid/R/site-library --timings UCSC.utils_1.5.0.tar.gz StartedAt: 2025-06-17 22:00:17 -0400 (Tue, 17 Jun 2025) EndedAt: 2025-06-17 22:01:31 -0400 (Tue, 17 Jun 2025) EllapsedTime: 73.7 seconds RetCode: 0 Status: OK CheckDir: UCSC.utils.Rcheck Warnings: 0