Package: UCSC.utils Version: 1.5.0 Command: /home/rapidbuild/bbs-3.22-bioc-rapid/R/bin/R CMD INSTALL UCSC.utils StartedAt: 2025-06-17 18:17:38 -0400 (Tue, 17 Jun 2025) EndedAt: 2025-06-17 18:17:44 -0400 (Tue, 17 Jun 2025) EllapsedTime: 6.2 seconds RetCode: 0 Status: OK