Package: VisiumIO Version: 1.5.6 Maintainer: Marcel Ramos MaintainerEmail: marcel.ramos at sph.cuny.edu git_url: https://git.bioconductor.org/packages/VisiumIO git_branch: devel git_last_commit: 0ffa1d4 git_last_commit_date: 2025-05-07 11:07:34 -0400 (Wed, 07 May 2025)