Package: VisiumIO Version: 1.5.6 Command: /home/rapidbuild/bbs-3.22-bioc-rapid/R/bin/R CMD INSTALL VisiumIO StartedAt: 2025-06-17 18:20:53 -0400 (Tue, 17 Jun 2025) EndedAt: 2025-06-17 18:21:15 -0400 (Tue, 17 Jun 2025) EllapsedTime: 22.6 seconds RetCode: 0 Status: OK