Package: Wrench Version: 1.27.0 Command: /home/rapidbuild/bbs-3.22-bioc-rapid/R/bin/R CMD build --keep-empty-dirs --no-resave-data Wrench StartedAt: 2025-06-17 19:45:54 -0400 (Tue, 17 Jun 2025) EndedAt: 2025-06-17 19:46:31 -0400 (Tue, 17 Jun 2025) EllapsedTime: 36.3 seconds RetCode: 0 Status: OK PackageFile: Wrench_1.27.0.tar.gz PackageFileSize: 224.9 KiB