Package: affxparser Version: 1.81.0 Maintainer: Kasper Daniel Hansen MaintainerEmail: kasperdanielhansen at gmail.com git_url: https://git.bioconductor.org/packages/affxparser git_branch: devel git_last_commit: 3e1bdbd git_last_commit_date: 2025-04-15 09:37:02 -0400 (Tue, 15 Apr 2025)