Package: affxparser Version: 1.81.0 Command: /home/rapidbuild/bbs-3.22-bioc-rapid/R/bin/R CMD INSTALL affxparser StartedAt: 2025-06-17 18:04:45 -0400 (Tue, 17 Jun 2025) EndedAt: 2025-06-17 18:05:54 -0400 (Tue, 17 Jun 2025) EllapsedTime: 69.2 seconds RetCode: 0 Status: OK