Package: alabaster.base Version: 1.9.2 Command: /home/rapidbuild/bbs-3.22-bioc-rapid/R/bin/R CMD build --keep-empty-dirs --no-resave-data alabaster.base StartedAt: 2025-06-17 18:31:19 -0400 (Tue, 17 Jun 2025) EndedAt: 2025-06-17 18:32:41 -0400 (Tue, 17 Jun 2025) EllapsedTime: 81.6 seconds RetCode: 0 Status: OK PackageFile: alabaster.base_1.9.2.tar.gz PackageFileSize: 330.4 KiB