############################################################################## ############################################################################## ### ### Running command: ### ### /home/rapidbuild/bbs-3.22-bioc-rapid/R/bin/R CMD INSTALL alabaster.base ### ############################################################################## ############################################################################## * installing to library ‘/media/volume/teran2_disk/rapidbuild/bbs-3.22-bioc-rapid/R/site-library’ * installing *source* package ‘alabaster.base’ ... ** this is package ‘alabaster.base’ version ‘1.9.2’ ** using staged installation ** libs using C++ compiler: ‘g++ (Ubuntu 13.3.0-6ubuntu2~24.04) 13.3.0’ using C++17 g++ -std=gnu++17 -I"/home/rapidbuild/bbs-3.22-bioc-rapid/R/include" -DNDEBUG -I../inst/include -I'/media/volume/teran2_disk/rapidbuild/bbs-3.22-bioc-rapid/R/site-library/Rcpp/include' -I'/media/volume/teran2_disk/rapidbuild/bbs-3.22-bioc-rapid/R/site-library/assorthead/include' -I'/media/volume/teran2_disk/rapidbuild/bbs-3.22-bioc-rapid/R/site-library/Rhdf5lib/include' -I/usr/local/include -fpic -g -O2 -Wall -Werror=format-security -c RcppExports.cpp -o RcppExports.o g++ -std=gnu++17 -I"/home/rapidbuild/bbs-3.22-bioc-rapid/R/include" -DNDEBUG -I../inst/include -I'/media/volume/teran2_disk/rapidbuild/bbs-3.22-bioc-rapid/R/site-library/Rcpp/include' -I'/media/volume/teran2_disk/rapidbuild/bbs-3.22-bioc-rapid/R/site-library/assorthead/include' -I'/media/volume/teran2_disk/rapidbuild/bbs-3.22-bioc-rapid/R/site-library/Rhdf5lib/include' -I/usr/local/include -fpic -g -O2 -Wall -Werror=format-security -c check_csv.cpp -o check_csv.o g++ -std=gnu++17 -I"/home/rapidbuild/bbs-3.22-bioc-rapid/R/include" -DNDEBUG -I../inst/include -I'/media/volume/teran2_disk/rapidbuild/bbs-3.22-bioc-rapid/R/site-library/Rcpp/include' -I'/media/volume/teran2_disk/rapidbuild/bbs-3.22-bioc-rapid/R/site-library/assorthead/include' -I'/media/volume/teran2_disk/rapidbuild/bbs-3.22-bioc-rapid/R/site-library/Rhdf5lib/include' -I/usr/local/include -fpic -g -O2 -Wall -Werror=format-security -c check_list.cpp -o check_list.o g++ -std=gnu++17 -I"/home/rapidbuild/bbs-3.22-bioc-rapid/R/include" -DNDEBUG -I../inst/include -I'/media/volume/teran2_disk/rapidbuild/bbs-3.22-bioc-rapid/R/site-library/Rcpp/include' -I'/media/volume/teran2_disk/rapidbuild/bbs-3.22-bioc-rapid/R/site-library/assorthead/include' -I'/media/volume/teran2_disk/rapidbuild/bbs-3.22-bioc-rapid/R/site-library/Rhdf5lib/include' -I/usr/local/include -fpic -g -O2 -Wall -Werror=format-security -c choose_numeric_missing_placeholder.cpp -o choose_numeric_missing_placeholder.o g++ -std=gnu++17 -I"/home/rapidbuild/bbs-3.22-bioc-rapid/R/include" -DNDEBUG -I../inst/include -I'/media/volume/teran2_disk/rapidbuild/bbs-3.22-bioc-rapid/R/site-library/Rcpp/include' -I'/media/volume/teran2_disk/rapidbuild/bbs-3.22-bioc-rapid/R/site-library/assorthead/include' -I'/media/volume/teran2_disk/rapidbuild/bbs-3.22-bioc-rapid/R/site-library/Rhdf5lib/include' -I/usr/local/include -fpic -g -O2 -Wall -Werror=format-security -c is_rfc3339.cpp -o is_rfc3339.o g++ -std=gnu++17 -I"/home/rapidbuild/bbs-3.22-bioc-rapid/R/include" -DNDEBUG -I../inst/include -I'/media/volume/teran2_disk/rapidbuild/bbs-3.22-bioc-rapid/R/site-library/Rcpp/include' -I'/media/volume/teran2_disk/rapidbuild/bbs-3.22-bioc-rapid/R/site-library/assorthead/include' -I'/media/volume/teran2_disk/rapidbuild/bbs-3.22-bioc-rapid/R/site-library/Rhdf5lib/include' -I/usr/local/include -fpic -g -O2 -Wall -Werror=format-security -c load_csv.cpp -o load_csv.o g++ -std=gnu++17 -I"/home/rapidbuild/bbs-3.22-bioc-rapid/R/include" -DNDEBUG -I../inst/include -I'/media/volume/teran2_disk/rapidbuild/bbs-3.22-bioc-rapid/R/site-library/Rcpp/include' -I'/media/volume/teran2_disk/rapidbuild/bbs-3.22-bioc-rapid/R/site-library/assorthead/include' -I'/media/volume/teran2_disk/rapidbuild/bbs-3.22-bioc-rapid/R/site-library/Rhdf5lib/include' -I/usr/local/include -fpic -g -O2 -Wall -Werror=format-security -c load_list.cpp -o load_list.o g++ -std=gnu++17 -I"/home/rapidbuild/bbs-3.22-bioc-rapid/R/include" -DNDEBUG -I../inst/include -I'/media/volume/teran2_disk/rapidbuild/bbs-3.22-bioc-rapid/R/site-library/Rcpp/include' -I'/media/volume/teran2_disk/rapidbuild/bbs-3.22-bioc-rapid/R/site-library/assorthead/include' -I'/media/volume/teran2_disk/rapidbuild/bbs-3.22-bioc-rapid/R/site-library/Rhdf5lib/include' -I/usr/local/include -fpic -g -O2 -Wall -Werror=format-security -c validate.cpp -o validate.o g++ -std=gnu++17 -I"/home/rapidbuild/bbs-3.22-bioc-rapid/R/include" -DNDEBUG -I../inst/include -I'/media/volume/teran2_disk/rapidbuild/bbs-3.22-bioc-rapid/R/site-library/Rcpp/include' -I'/media/volume/teran2_disk/rapidbuild/bbs-3.22-bioc-rapid/R/site-library/assorthead/include' -I'/media/volume/teran2_disk/rapidbuild/bbs-3.22-bioc-rapid/R/site-library/Rhdf5lib/include' -I/usr/local/include -fpic -g -O2 -Wall -Werror=format-security -c vls.cpp -o vls.o g++ -std=gnu++17 -shared -L/usr/local/lib -o alabaster.base.so RcppExports.o check_csv.o check_list.o choose_numeric_missing_placeholder.o is_rfc3339.o load_csv.o load_list.o validate.o vls.o /media/volume/teran2_disk/rapidbuild/bbs-3.22-bioc-rapid/R/site-library/Rhdf5lib/lib/libhdf5_cpp.a /media/volume/teran2_disk/rapidbuild/bbs-3.22-bioc-rapid/R/site-library/Rhdf5lib/lib/libhdf5.a -L/media/volume/teran2_disk/rapidbuild/bbs-3.22-bioc-rapid/R/site-library/Rhdf5lib/lib -lcrypto -lcurl -lsz -laec -lz -ldl -lm -lz installing to /media/volume/teran2_disk/rapidbuild/bbs-3.22-bioc-rapid/R/site-library/00LOCK-alabaster.base/00new/alabaster.base/libs ** R ** inst ** byte-compile and prepare package for lazy loading ** help *** installing help indices ** building package indices ** installing vignettes ** testing if installed package can be loaded from temporary location ** checking absolute paths in shared objects and dynamic libraries ** testing if installed package can be loaded from final location ** testing if installed package keeps a record of temporary installation path * DONE (alabaster.base)